BEGIN:VCALENDAR
VERSION:2.0
PRODID:-//K.o.T. Drolshagen - ECPv6.10.1.1//NONSGML v1.0//EN
CALSCALE:GREGORIAN
METHOD:PUBLISH
X-ORIGINAL-URL:https://www.kot-drolshagen.de
X-WR-CALDESC:Veranstaltungen für K.o.T. Drolshagen
REFRESH-INTERVAL;VALUE=DURATION:PT1H
X-Robots-Tag:noindex
X-PUBLISHED-TTL:PT1H
BEGIN:VTIMEZONE
TZID:Europe/Berlin
BEGIN:DAYLIGHT
TZOFFSETFROM:+0100
TZOFFSETTO:+0200
TZNAME:CEST
DTSTART:20250330T010000
END:DAYLIGHT
BEGIN:STANDARD
TZOFFSETFROM:+0200
TZOFFSETTO:+0100
TZNAME:CET
DTSTART:20251026T010000
END:STANDARD
END:VTIMEZONE
BEGIN:VEVENT
DTSTART;TZID=Europe/Berlin:20250604T160000
DTEND;TZID=Europe/Berlin:20250604T190000
DTSTAMP:20260419T214833
CREATED:20250521T130221Z
LAST-MODIFIED:20250521T130221Z
UID:6255-1749052800-1749063600@www.kot-drolshagen.de
SUMMARY:Kindertreff  - Mandalas malen
DESCRIPTION:Heute möchten wir mit euch ein wenig zur Ruhe kommen und Mandalas malen. Dabei hören wir schöne Musik und können uns austauschen. \nAnmelden könnt ihr euch hier
URL:https://www.kot-drolshagen.de/event/kindertreff-mandalas-malen-2/
LOCATION:Kleine Offene Tür Drolshagen\, Annostraße 14\, Drolshagen\, 57462\, Deutschland
CATEGORIES:Kindertreff
ORGANIZER;CN="K.o.T. Drolshagen":MAILTO:info@kot-drolshagen.de
END:VEVENT
END:VCALENDAR