BEGIN:VCALENDAR
VERSION:2.0
PRODID:-//K.o.T. Drolshagen - ECPv6.10.1.1//NONSGML v1.0//EN
CALSCALE:GREGORIAN
METHOD:PUBLISH
X-WR-CALNAME:K.o.T. Drolshagen
X-ORIGINAL-URL:https://www.kot-drolshagen.de
X-WR-CALDESC:Veranstaltungen für K.o.T. Drolshagen
REFRESH-INTERVAL;VALUE=DURATION:PT1H
X-Robots-Tag:noindex
X-PUBLISHED-TTL:PT1H
BEGIN:VTIMEZONE
TZID:Europe/Berlin
BEGIN:DAYLIGHT
TZOFFSETFROM:+0100
TZOFFSETTO:+0200
TZNAME:CEST
DTSTART:20260329T010000
END:DAYLIGHT
BEGIN:STANDARD
TZOFFSETFROM:+0200
TZOFFSETTO:+0100
TZNAME:CET
DTSTART:20261025T010000
END:STANDARD
END:VTIMEZONE
BEGIN:VEVENT
DTSTART;TZID=Europe/Berlin:20260114T150000
DTEND;TZID=Europe/Berlin:20260114T180000
DTSTAMP:20260422T125838
CREATED:20260206T164042Z
LAST-MODIFIED:20260206T164042Z
UID:6545-1768402800-1768413600@www.kot-drolshagen.de
SUMMARY:Kindertreff - offener Spieletreff
DESCRIPTION:Wir starten nach den Ferien wieder mit dem Kindertreff. Heute offener Spieletreff\, das heißt ihr könnt euch nach Herzenslust in der KoT austoben. Wir freuen uns auf euch 🙂 \nMeldet euch bitte unter info@kot-drolshagen.de oder der 02761 71080 an.
URL:https://www.kot-drolshagen.de/event/kindertreff-offener-spieletreff-3/
LOCATION:Kleine Offene Tür Drolshagen\, Annostraße 14\, Drolshagen\, 57462\, Deutschland
ORGANIZER;CN="K.o.T. Drolshagen":MAILTO:info@kot-drolshagen.de
END:VEVENT
END:VCALENDAR