BEGIN:VCALENDAR
VERSION:2.0
PRODID:-//K.o.T. Drolshagen - ECPv6.10.1.1//NONSGML v1.0//EN
CALSCALE:GREGORIAN
METHOD:PUBLISH
X-ORIGINAL-URL:https://www.kot-drolshagen.de
X-WR-CALDESC:Veranstaltungen für K.o.T. Drolshagen
REFRESH-INTERVAL;VALUE=DURATION:PT1H
X-Robots-Tag:noindex
X-PUBLISHED-TTL:PT1H
BEGIN:VTIMEZONE
TZID:Europe/Berlin
BEGIN:DAYLIGHT
TZOFFSETFROM:+0100
TZOFFSETTO:+0200
TZNAME:CEST
DTSTART:20260329T010000
END:DAYLIGHT
BEGIN:STANDARD
TZOFFSETFROM:+0200
TZOFFSETTO:+0100
TZNAME:CET
DTSTART:20261025T010000
END:STANDARD
END:VTIMEZONE
BEGIN:VEVENT
DTSTART;VALUE=DATE:20260118
DTEND;VALUE=DATE:20260119
DTSTAMP:20260422T112331
CREATED:20251205T132222Z
LAST-MODIFIED:20251205T132222Z
UID:6504-1768694400-1768780799@www.kot-drolshagen.de
SUMMARY:Phantasialand
DESCRIPTION:ab 12 Jahren \nKostenbeitrag 20€ \nAnmeldung in der KoT
URL:https://www.kot-drolshagen.de/event/phantasialand/
END:VEVENT
END:VCALENDAR