BEGIN:VCALENDAR
VERSION:2.0
PRODID:-//K.o.T. Drolshagen - ECPv6.10.1.1//NONSGML v1.0//EN
CALSCALE:GREGORIAN
METHOD:PUBLISH
X-WR-CALNAME:K.o.T. Drolshagen
X-ORIGINAL-URL:https://www.kot-drolshagen.de
X-WR-CALDESC:Veranstaltungen für K.o.T. Drolshagen
REFRESH-INTERVAL;VALUE=DURATION:PT1H
X-Robots-Tag:noindex
X-PUBLISHED-TTL:PT1H
BEGIN:VTIMEZONE
TZID:Europe/Berlin
BEGIN:DAYLIGHT
TZOFFSETFROM:+0100
TZOFFSETTO:+0200
TZNAME:CEST
DTSTART:20260329T010000
END:DAYLIGHT
BEGIN:STANDARD
TZOFFSETFROM:+0200
TZOFFSETTO:+0100
TZNAME:CET
DTSTART:20261025T010000
END:STANDARD
END:VTIMEZONE
BEGIN:VEVENT
DTSTART;TZID=Europe/Berlin:20260324T150000
DTEND;TZID=Europe/Berlin:20260324T160000
DTSTAMP:20260421T115527
CREATED:20260206T171049Z
LAST-MODIFIED:20260206T171049Z
UID:6578-1774364400-1774368000@www.kot-drolshagen.de
SUMMARY:Sporttreff
DESCRIPTION:Action in der Herrnscheidhalle: Unser offener Sporttreff für euch! \nIhr habt Lust auf Bewegung\, Teamgeist und jede Menge Action? Dann kommt zu unserem Sporttreff in die Herrnscheidhalle! Egal ob ihr Lust auf eine packende Runde Fußball habt\, euch beim Basketball auspowern wollt oder ganz andere Sportarten ausprobieren möchtet – hier bestimmt ihr das Programm. Wir bringen die Bälle mit\, und ihr bringt die Energie! \nDas Angebot ist für alle Kinder und Jugendlichen ab 8 Jahren offen und zudem komplett kostenlos. Egal ob Profi oder Anfänger\, bei uns steht der Spaß am gemeinsamen Spiel im Vordergrund. \nDamit wir wissen\, wie viele Sportbegeisterte dabei sind\, meldet euch bitte kurz vorher an. Schreibt uns einfach eine E-Mail an info@kot-drolshagen.de oder ruft uns unter der 02761 71080 an. Schnappt euch eure Hallenschuhe und seid dabei – wir freuen uns auf euch!
URL:https://www.kot-drolshagen.de/event/sporttreff-3/
LOCATION:Herrnscheid Sporthalle\, Herrnscheider Weg 33\, Drolshagen\, 57489
ORGANIZER;CN="K.o.T. Drolshagen":MAILTO:info@kot-drolshagen.de
END:VEVENT
BEGIN:VEVENT
DTSTART;TZID=Europe/Berlin:20260324T170000
DTEND;TZID=Europe/Berlin:20260324T183000
DTSTAMP:20260421T115527
CREATED:20260206T165725Z
LAST-MODIFIED:20260206T165725Z
UID:6561-1774371600-1774377000@www.kot-drolshagen.de
SUMMARY:Koch- und Back-AG ~ Donuts
DESCRIPTION:In unserer Koch- und Back-AG wird es dieses Mal so richtig kreativ und süß\, denn wir widmen uns den perfekten Donuts! Wir zeigen euch\, wie die fluffigen Teigringe gebacken werden und – was natürlich am meisten Spaß macht – wie ihr sie nach Herzenslust verziert. Ob mit bunter Glasur\, Schokolade oder glitzernden Streuseln: Hier könnt ihr eure eigenen Kunstwerke erschaffen. Die AG ist für alle Naschkatzen ab 10 Jahren gedacht\, die Lust haben\, gemeinsam zu backen und zu dekorieren. \nSeid ihr bereit für die süßeste AG des Monats? Damit wir genug Teig und Deko für alle haben\, meldet euch bitte vorher bei uns an. Schreibt uns einfach eine E-Mail an info@kot-drolshagen.de oder ruft uns unter der 02761 71080 an. Wir freuen uns darauf\, mit euch die Küche in eine bunte Donut-Werkstatt zu verwandeln!
URL:https://www.kot-drolshagen.de/event/koch-und-back-ag-donuts/
LOCATION:Kleine Offene Tür Drolshagen\, Annostraße 14\, Drolshagen\, 57462\, Deutschland
ORGANIZER;CN="K.o.T. Drolshagen":MAILTO:info@kot-drolshagen.de
END:VEVENT
END:VCALENDAR