BEGIN:VCALENDAR
VERSION:2.0
PRODID:-//K.o.T. Drolshagen - ECPv6.10.1.1//NONSGML v1.0//EN
CALSCALE:GREGORIAN
METHOD:PUBLISH
X-ORIGINAL-URL:https://www.kot-drolshagen.de
X-WR-CALDESC:Veranstaltungen für K.o.T. Drolshagen
REFRESH-INTERVAL;VALUE=DURATION:PT1H
X-Robots-Tag:noindex
X-PUBLISHED-TTL:PT1H
BEGIN:VTIMEZONE
TZID:Europe/Berlin
BEGIN:DAYLIGHT
TZOFFSETFROM:+0100
TZOFFSETTO:+0200
TZNAME:CEST
DTSTART:20260329T010000
END:DAYLIGHT
BEGIN:STANDARD
TZOFFSETFROM:+0200
TZOFFSETTO:+0100
TZNAME:CET
DTSTART:20261025T010000
END:STANDARD
END:VTIMEZONE
BEGIN:VEVENT
DTSTART;TZID=Europe/Berlin:20260415T150000
DTEND;TZID=Europe/Berlin:20260415T170000
DTSTAMP:20260422T124505
CREATED:20260409T163210Z
LAST-MODIFIED:20260409T163349Z
UID:6648-1776265200-1776272400@www.kot-drolshagen.de
SUMMARY:Kindertreff - offener Spieletreff
DESCRIPTION:Unser offener Kindertreff lädt alle Kinder zum Spielen\, Basteln und gemeinsamen Zeitverbringen ein. Eine Anmeldung für den offenen Treff ist nicht erforderlich und die Teilnahme ist kostenlos.
URL:https://www.kot-drolshagen.de/event/kindertreff-offener-spieletreff-4/
LOCATION:Kleine Offene Tür Drolshagen\, Annostraße 14\, Drolshagen\, 57462\, Deutschland
ORGANIZER;CN="K.o.T. Drolshagen":MAILTO:info@kot-drolshagen.de
END:VEVENT
END:VCALENDAR