BEGIN:VCALENDAR
VERSION:2.0
PRODID:-//K.o.T. Drolshagen - ECPv6.10.1.1//NONSGML v1.0//EN
CALSCALE:GREGORIAN
METHOD:PUBLISH
X-ORIGINAL-URL:https://www.kot-drolshagen.de
X-WR-CALDESC:Veranstaltungen für K.o.T. Drolshagen
REFRESH-INTERVAL;VALUE=DURATION:PT1H
X-Robots-Tag:noindex
X-PUBLISHED-TTL:PT1H
BEGIN:VTIMEZONE
TZID:Europe/Berlin
BEGIN:DAYLIGHT
TZOFFSETFROM:+0100
TZOFFSETTO:+0200
TZNAME:CEST
DTSTART:20260329T010000
END:DAYLIGHT
BEGIN:STANDARD
TZOFFSETFROM:+0200
TZOFFSETTO:+0100
TZNAME:CET
DTSTART:20261025T010000
END:STANDARD
END:VTIMEZONE
BEGIN:VEVENT
DTSTART;TZID=Europe/Berlin:20260429T150000
DTEND;TZID=Europe/Berlin:20260429T180000
DTSTAMP:20260421T133406
CREATED:20260409T163542Z
LAST-MODIFIED:20260409T163542Z
UID:6652-1777474800-1777485600@www.kot-drolshagen.de
SUMMARY:Kindertreff - offener Treff und Basecaps bemalen
DESCRIPTION:Unser offener Kindertreff lädt alle Kinder zum Spielen\, Basteln und gemeinsamen Zeitverbringen ein. Eine Anmeldung für den offenen Treff ist nicht erforderlich und die Teilnahme ist kostenlos. \nNeu: Von 16:00 bis ca. 17:00 Uhr findet zusätzlich ein freiwilliger Programmpunkt statt. Die Teilnahme ist optional\, ggf. fällt ein kleiner Kostenbeitrag an. Heute haben die Kinder die Möglichkeit Basecaps zu bemalen. Dafür fällt ein Kostenbeitrag von 2€ an. Für die Teilnahme am Programmpunkt bitten wir um Anmeldung unter info@kot-drolshagen.de oder telefonisch unter 02761 71080.
URL:https://www.kot-drolshagen.de/event/kindertreff-offener-treff-und-basecaps-bemalen/
LOCATION:Kleine Offene Tür Drolshagen\, Annostraße 14\, Drolshagen\, 57462\, Deutschland
ORGANIZER;CN="K.o.T. Drolshagen":MAILTO:info@kot-drolshagen.de
END:VEVENT
END:VCALENDAR