BEGIN:VCALENDAR
VERSION:2.0
PRODID:-//K.o.T. Drolshagen - ECPv6.10.1.1//NONSGML v1.0//EN
CALSCALE:GREGORIAN
METHOD:PUBLISH
X-WR-CALNAME:K.o.T. Drolshagen
X-ORIGINAL-URL:https://www.kot-drolshagen.de
X-WR-CALDESC:Veranstaltungen für K.o.T. Drolshagen
REFRESH-INTERVAL;VALUE=DURATION:PT1H
X-Robots-Tag:noindex
X-PUBLISHED-TTL:PT1H
BEGIN:VTIMEZONE
TZID:Europe/Berlin
BEGIN:DAYLIGHT
TZOFFSETFROM:+0100
TZOFFSETTO:+0200
TZNAME:CEST
DTSTART:20260329T010000
END:DAYLIGHT
BEGIN:STANDARD
TZOFFSETFROM:+0200
TZOFFSETTO:+0100
TZNAME:CET
DTSTART:20261025T010000
END:STANDARD
END:VTIMEZONE
BEGIN:VEVENT
DTSTART;VALUE=DATE:20260526
DTEND;VALUE=DATE:20260527
DTSTAMP:20260421T150407
CREATED:20260202T115300Z
LAST-MODIFIED:20260202T115300Z
UID:6521-1779753600-1779839999@www.kot-drolshagen.de
SUMMARY:Fahrt ins Phantasialand
DESCRIPTION:Wir möchten den schulfreien Tag nutzen und mit euch Zeit im Phantasialand verbringen. \nAb 14 Jahren \n25€ Kostenbeitrag \nAbfahrt: 8 Uhr KoT \nAnkunft: ca. 19.30/20 Uhr \n  \nMeldet euch bitte per Mail (info@kot-drolshagen.de) an.
URL:https://www.kot-drolshagen.de/event/fahrt-ins-phantasialand/
ORGANIZER;CN="K.o.T. Drolshagen":MAILTO:info@kot-drolshagen.de
END:VEVENT
END:VCALENDAR