BEGIN:VCALENDAR
VERSION:2.0
PRODID:-//K.o.T. Drolshagen - ECPv6.10.1.1//NONSGML v1.0//EN
CALSCALE:GREGORIAN
METHOD:PUBLISH
X-ORIGINAL-URL:https://www.kot-drolshagen.de
X-WR-CALDESC:Veranstaltungen für K.o.T. Drolshagen
REFRESH-INTERVAL;VALUE=DURATION:PT1H
X-Robots-Tag:noindex
X-PUBLISHED-TTL:PT1H
BEGIN:VTIMEZONE
TZID:Europe/Berlin
BEGIN:DAYLIGHT
TZOFFSETFROM:+0100
TZOFFSETTO:+0200
TZNAME:CEST
DTSTART:20250330T010000
END:DAYLIGHT
BEGIN:STANDARD
TZOFFSETFROM:+0200
TZOFFSETTO:+0100
TZNAME:CET
DTSTART:20251026T010000
END:STANDARD
END:VTIMEZONE
BEGIN:VEVENT
DTSTART;TZID=Europe/Berlin:20250422T110000
DTEND;TZID=Europe/Berlin:20250422T140000
DTSTAMP:20260419T140046
CREATED:20250415T134907Z
LAST-MODIFIED:20250415T135300Z
UID:6096-1745319600-1745330400@www.kot-drolshagen.de
SUMMARY:Oster-Schnitzeljagd
DESCRIPTION:Durch Hinweise findet ihr den Weg. Macht euch auf zu einer Rätselreise quer durch Drolshagen. Am Ende wartet selbstverständlich eine kleine Belohnung auf euch. \nAb 8 Jahren. Kostenbeitrag: 1 €
URL:https://www.kot-drolshagen.de/event/offener-treff-4/
END:VEVENT
BEGIN:VEVENT
DTSTART;TZID=Europe/Berlin:20250422T133000
DTEND;TZID=Europe/Berlin:20250422T150000
DTSTAMP:20260419T140046
CREATED:20250422T144706Z
LAST-MODIFIED:20250422T144706Z
UID:6142-1745328600-1745334000@www.kot-drolshagen.de
SUMMARY:Bewerbungsunterstützung
DESCRIPTION:Du willst dich für eine Ausbildung\, Schule oder ein Praktikum bewerben\, weißt aber nicht\, wo du anfangen sollst? Kein Problem! Wir unterstützen dich beim Schreiben von Bewerbungen\, Lebenslauf und Motivationsschreiben – kostenlos\, unkompliziert und auf Augenhöhe. \nUnd wenn du noch gar nicht genau weißt\, was du nach der Schule machen möchtest\, sind wir auch für dich da. Komm einfach vorbei – wir nehmen uns Zeit für dich und deine Fragen.
URL:https://www.kot-drolshagen.de/event/bewerbungsunterstuetzung-4/
END:VEVENT
BEGIN:VEVENT
DTSTART;TZID=Europe/Berlin:20250422T160000
DTEND;TZID=Europe/Berlin:20250422T190000
DTSTAMP:20260419T140046
CREATED:20250415T135839Z
LAST-MODIFIED:20250415T135839Z
UID:6104-1745337600-1745348400@www.kot-drolshagen.de
SUMMARY:Offener Treff
DESCRIPTION:
URL:https://www.kot-drolshagen.de/event/offener-treff-6/
END:VEVENT
BEGIN:VEVENT
DTSTART;TZID=Europe/Berlin:20250423T093000
DTEND;TZID=Europe/Berlin:20250423T160000
DTSTAMP:20260419T140046
CREATED:20250415T135345Z
LAST-MODIFIED:20250415T135638Z
UID:6100-1745400600-1745424000@www.kot-drolshagen.de
SUMMARY:Ausflug Phänomenta Lüdenscheid
DESCRIPTION:heute gehen wir im Phänomenta in Lüdenscheid auf Entdeckungstour. Für alle von 6 – 11 Jahren. Kostenbeitrag: 20€
URL:https://www.kot-drolshagen.de/event/offener-treff-5/
END:VEVENT
BEGIN:VEVENT
DTSTART;TZID=Europe/Berlin:20250423T160000
DTEND;TZID=Europe/Berlin:20250423T190000
DTSTAMP:20260419T140046
CREATED:20250415T135909Z
LAST-MODIFIED:20250415T135909Z
UID:6106-1745424000-1745434800@www.kot-drolshagen.de
SUMMARY:Offener Treff
DESCRIPTION:
URL:https://www.kot-drolshagen.de/event/offener-treff-7/
END:VEVENT
BEGIN:VEVENT
DTSTART;TZID=Europe/Berlin:20250424T110000
DTEND;TZID=Europe/Berlin:20250424T130000
DTSTAMP:20260419T140046
CREATED:20250415T140022Z
LAST-MODIFIED:20250415T140022Z
UID:6108-1745492400-1745499600@www.kot-drolshagen.de
SUMMARY:Raupe Nimmersatt
DESCRIPTION:Zusammen basteln wir heute eine Raupe Nimmersatt und hören uns dazu ihre Geschichte an. Für alle ab 6 Jahren. Kostenlos.
URL:https://www.kot-drolshagen.de/event/raupe-nimmersatt/
END:VEVENT
BEGIN:VEVENT
DTSTART;TZID=Europe/Berlin:20250424T140000
DTEND;TZID=Europe/Berlin:20250424T200000
DTSTAMP:20260419T140046
CREATED:20250415T140210Z
LAST-MODIFIED:20250415T140210Z
UID:6110-1745503200-1745524800@www.kot-drolshagen.de
SUMMARY:Fifa-Turnier
DESCRIPTION:Wer hat die besten Taktiken und Strategien? Lasst es uns bei einem gemeinsamen Fifa-Turnier herausfinden. \nAb 10 Jahren. Kostenlos.
URL:https://www.kot-drolshagen.de/event/fifa-turnier/
END:VEVENT
BEGIN:VEVENT
DTSTART;TZID=Europe/Berlin:20250424T170000
DTEND;TZID=Europe/Berlin:20250424T203000
DTSTAMP:20260419T140046
CREATED:20250415T140403Z
LAST-MODIFIED:20250415T140403Z
UID:6112-1745514000-1745526600@www.kot-drolshagen.de
SUMMARY:LaserTag in Siegen
DESCRIPTION:Gemeinsam mit den Jugendlichen aus Olpe fahren wir nach Siegen und spielen eine Runde LaserTag. \nAb 12 Jahren. Kostenbeitrag: 30€
URL:https://www.kot-drolshagen.de/event/lasertag-in-siegen/
END:VEVENT
BEGIN:VEVENT
DTSTART;TZID=Europe/Berlin:20250425T110000
DTEND;TZID=Europe/Berlin:20250425T130000
DTSTAMP:20260419T140046
CREATED:20250415T140605Z
LAST-MODIFIED:20250415T140605Z
UID:6114-1745578800-1745586000@www.kot-drolshagen.de
SUMMARY:Buntes Backen
DESCRIPTION:Wir backen kleine Häschen-Plätzchen\, lustige Cakepops und bunte Waffeln. Bei einem leckeren Kakao lassen wir es uns dann gut gehen. \nAb 8 Jahren. Kostenbeitrag: 3€
URL:https://www.kot-drolshagen.de/event/buntes-backen/
END:VEVENT
BEGIN:VEVENT
DTSTART;TZID=Europe/Berlin:20250425T150000
DTEND;TZID=Europe/Berlin:20250425T170000
DTSTAMP:20260419T140046
CREATED:20250415T140708Z
LAST-MODIFIED:20250415T140708Z
UID:6116-1745593200-1745600400@www.kot-drolshagen.de
SUMMARY:Kinderkino
DESCRIPTION:Ab 6 Jahren
URL:https://www.kot-drolshagen.de/event/kinderkino/
END:VEVENT
BEGIN:VEVENT
DTSTART;TZID=Europe/Berlin:20250425T173000
DTEND;TZID=Europe/Berlin:20250425T190000
DTSTAMP:20260419T140046
CREATED:20250415T140747Z
LAST-MODIFIED:20250415T140747Z
UID:6118-1745602200-1745607600@www.kot-drolshagen.de
SUMMARY:Jugendkino
DESCRIPTION:ab 12 Jahren
URL:https://www.kot-drolshagen.de/event/jugendkino/
END:VEVENT
BEGIN:VEVENT
DTSTART;VALUE=DATE:20250428
DTEND;VALUE=DATE:20250501
DTSTAMP:20260419T140046
CREATED:20250415T140916Z
LAST-MODIFIED:20250415T140916Z
UID:6120-1745798400-1746057599@www.kot-drolshagen.de
SUMMARY:Fortbildung - KoT geschlossen
DESCRIPTION:Da wir auf einer Fortbildung sind\, bleibt die KoT leider geschlossen…
URL:https://www.kot-drolshagen.de/event/fortbildung-kot-geschlossen/
END:VEVENT
END:VCALENDAR