BEGIN:VCALENDAR
VERSION:2.0
PRODID:-//K.o.T. Drolshagen - ECPv6.10.1.1//NONSGML v1.0//EN
CALSCALE:GREGORIAN
METHOD:PUBLISH
X-ORIGINAL-URL:https://www.kot-drolshagen.de
X-WR-CALDESC:Veranstaltungen für K.o.T. Drolshagen
REFRESH-INTERVAL;VALUE=DURATION:PT1H
X-Robots-Tag:noindex
X-PUBLISHED-TTL:PT1H
BEGIN:VTIMEZONE
TZID:Europe/Berlin
BEGIN:DAYLIGHT
TZOFFSETFROM:+0100
TZOFFSETTO:+0200
TZNAME:CEST
DTSTART:20250330T010000
END:DAYLIGHT
BEGIN:STANDARD
TZOFFSETFROM:+0200
TZOFFSETTO:+0100
TZNAME:CET
DTSTART:20251026T010000
END:STANDARD
END:VTIMEZONE
BEGIN:VEVENT
DTSTART;TZID=Europe/Berlin:20250502T163000
DTEND;TZID=Europe/Berlin:20250502T190000
DTSTAMP:20260419T153907
CREATED:20250415T141135Z
LAST-MODIFIED:20250415T141135Z
UID:6122-1746203400-1746212400@www.kot-drolshagen.de
SUMMARY:Bulli-Freitag: Kegeln
DESCRIPTION:Wir fahren heute nach Olpe zum Kegeln. Für alle ab 14 Jahren. Treffpunkt ist um 16:30 Uhr an der KoT\, zurück sein werden wir gegen 19 Uhr. Die Fahrt ist kostenlos. Wir bitten um Anmeldung!
URL:https://www.kot-drolshagen.de/event/bulli-freitag-kegeln/
END:VEVENT
BEGIN:VEVENT
DTSTART;TZID=Europe/Berlin:20250505T133000
DTEND;TZID=Europe/Berlin:20250505T150000
DTSTAMP:20260419T153907
CREATED:20250422T144449Z
LAST-MODIFIED:20250422T144449Z
UID:6136-1746451800-1746457200@www.kot-drolshagen.de
SUMMARY:Bewerbungsunterstützung
DESCRIPTION:Du willst dich für eine Ausbildung\, Schule oder ein Praktikum bewerben\, weißt aber nicht\, wo du anfangen sollst? Kein Problem! Wir unterstützen dich beim Schreiben von Bewerbungen\, Lebenslauf und Motivationsschreiben – kostenlos\, unkompliziert und auf Augenhöhe. \nUnd wenn du noch gar nicht genau weißt\, was du nach der Schule machen möchtest\, sind wir auch für dich da. Komm einfach vorbei – wir nehmen uns Zeit für dich und deine Fragen.
URL:https://www.kot-drolshagen.de/event/bewerbungsunterstuetzung/
END:VEVENT
BEGIN:VEVENT
DTSTART;TZID=Europe/Berlin:20250505T170000
DTEND;TZID=Europe/Berlin:20250505T190000
DTSTAMP:20260419T153907
CREATED:20250415T141243Z
LAST-MODIFIED:20250415T141243Z
UID:6124-1746464400-1746471600@www.kot-drolshagen.de
SUMMARY:Kinotag
DESCRIPTION:Ab 10 Jahren. An der Theke wird es heute für einen kleinen Beitrag Popcorn geben 🙂
URL:https://www.kot-drolshagen.de/event/kinotag/
END:VEVENT
BEGIN:VEVENT
DTSTART;TZID=Europe/Berlin:20250506T133000
DTEND;TZID=Europe/Berlin:20250506T150000
DTSTAMP:20260419T153907
CREATED:20250422T145411Z
LAST-MODIFIED:20250422T145411Z
UID:6154-1746538200-1746543600@www.kot-drolshagen.de
SUMMARY:Offener Lerntreff - ab 12 Jahren
DESCRIPTION:Du suchst einen Ort\, an dem du konzentriert lernen\, dich mit anderen austauschen oder einfach in angenehmer Atmosphäre an deinen Projekten arbeiten kannst? Dann bist du beim offenen Lerntreff genau richtig! \nEgal ob Schule\, Studium\, Weiterbildung oder Selbststudium – komm vorbei\, bring deine Materialien mit und werde Teil einer motivierten Lerngruppe. Jeder ist willkommen – ohne Anmeldung\, ohne Verpflichtung.
URL:https://www.kot-drolshagen.de/event/offener-lerntreff-ab-12-jahren/
END:VEVENT
BEGIN:VEVENT
DTSTART;TZID=Europe/Berlin:20250506T160000
DTEND;TZID=Europe/Berlin:20250506T180000
DTSTAMP:20260419T153907
CREATED:20250422T152754Z
LAST-MODIFIED:20250422T152754Z
UID:6170-1746547200-1746554400@www.kot-drolshagen.de
SUMMARY:Koch- und BackAG - Nudelauflauf
DESCRIPTION:Heute machen wir leckeren Nudelauflauf mit euch
URL:https://www.kot-drolshagen.de/event/koch-und-backag-nudelauflauf/
END:VEVENT
BEGIN:VEVENT
DTSTART;TZID=Europe/Berlin:20250507T150000
DTEND;TZID=Europe/Berlin:20250507T160000
DTSTAMP:20260419T153907
CREATED:20250422T145821Z
LAST-MODIFIED:20250422T145821Z
UID:6156-1746630000-1746633600@www.kot-drolshagen.de
SUMMARY:Offener Lerntreff - 8 bis 12 Jahre
DESCRIPTION:Du suchst einen Ort\, an dem du konzentriert lernen\, dich mit anderen austauschen oder einfach in angenehmer Atmosphäre an deinen Projekten arbeiten kannst? Dann bist du beim offenen Lerntreff genau richtig! \nEgal ob Schule\, Studium\, Weiterbildung oder Selbststudium – komm vorbei\, bring deine Materialien mit und werde Teil einer motivierten Lerngruppe. Jeder ist willkommen – ohne Anmeldung\, ohne Verpflichtung.
URL:https://www.kot-drolshagen.de/event/offener-lerntreff-8-bis-12-jahre/
END:VEVENT
BEGIN:VEVENT
DTSTART;TZID=Europe/Berlin:20250507T160000
DTEND;TZID=Europe/Berlin:20250507T190000
DTSTAMP:20260419T153907
CREATED:20250422T143313Z
LAST-MODIFIED:20250422T143513Z
UID:6128-1746633600-1746644400@www.kot-drolshagen.de
SUMMARY:Kindertreff - Pizza backen
DESCRIPTION:Wir rollen den Teig aus\, belegen unsere eigene Mini-Pizza und genießen sie gemeinsam frisch aus dem Ofen. Lecker und kreativ!
URL:https://www.kot-drolshagen.de/event/kindertreff-pizza-backen/
END:VEVENT
BEGIN:VEVENT
DTSTART;TZID=Europe/Berlin:20250508T133000
DTEND;TZID=Europe/Berlin:20250508T150000
DTSTAMP:20260419T153907
CREATED:20250422T144609Z
LAST-MODIFIED:20250422T144609Z
UID:6138-1746711000-1746716400@www.kot-drolshagen.de
SUMMARY:Bewerbungsunterstützung
DESCRIPTION:Du willst dich für eine Ausbildung\, Schule oder ein Praktikum bewerben\, weißt aber nicht\, wo du anfangen sollst? Kein Problem! Wir unterstützen dich beim Schreiben von Bewerbungen\, Lebenslauf und Motivationsschreiben – kostenlos\, unkompliziert und auf Augenhöhe. \nUnd wenn du noch gar nicht genau weißt\, was du nach der Schule machen möchtest\, sind wir auch für dich da. Komm einfach vorbei – wir nehmen uns Zeit für dich und deine Fragen.
URL:https://www.kot-drolshagen.de/event/bewerbungsunterstuetzung-2/
END:VEVENT
BEGIN:VEVENT
DTSTART;TZID=Europe/Berlin:20250512T133000
DTEND;TZID=Europe/Berlin:20250512T150000
DTSTAMP:20260419T153907
CREATED:20250422T144638Z
LAST-MODIFIED:20250422T144638Z
UID:6140-1747056600-1747062000@www.kot-drolshagen.de
SUMMARY:Bewerbungsunterstützung
DESCRIPTION:Du willst dich für eine Ausbildung\, Schule oder ein Praktikum bewerben\, weißt aber nicht\, wo du anfangen sollst? Kein Problem! Wir unterstützen dich beim Schreiben von Bewerbungen\, Lebenslauf und Motivationsschreiben – kostenlos\, unkompliziert und auf Augenhöhe. \nUnd wenn du noch gar nicht genau weißt\, was du nach der Schule machen möchtest\, sind wir auch für dich da. Komm einfach vorbei – wir nehmen uns Zeit für dich und deine Fragen.
URL:https://www.kot-drolshagen.de/event/bewerbungsunterstuetzung-3/
END:VEVENT
BEGIN:VEVENT
DTSTART;TZID=Europe/Berlin:20250513T133000
DTEND;TZID=Europe/Berlin:20250513T150000
DTSTAMP:20260419T153907
CREATED:20250422T145906Z
LAST-MODIFIED:20250422T145906Z
UID:6158-1747143000-1747148400@www.kot-drolshagen.de
SUMMARY:Offener Lerntreff - ab 12 Jahren
DESCRIPTION:Du suchst einen Ort\, an dem du konzentriert lernen\, dich mit anderen austauschen oder einfach in angenehmer Atmosphäre an deinen Projekten arbeiten kannst? Dann bist du beim offenen Lerntreff genau richtig! \nEgal ob Schule\, Studium\, Weiterbildung oder Selbststudium – komm vorbei\, bring deine Materialien mit und werde Teil einer motivierten Lerngruppe. Jeder ist willkommen – ohne Anmeldung\, ohne Verpflichtung.
URL:https://www.kot-drolshagen.de/event/offener-lerntreff-ab-12-jahren-2/
END:VEVENT
BEGIN:VEVENT
DTSTART;TZID=Europe/Berlin:20250513T160000
DTEND;TZID=Europe/Berlin:20250513T180000
DTSTAMP:20260419T153907
CREATED:20250422T152828Z
LAST-MODIFIED:20250422T152828Z
UID:6172-1747152000-1747159200@www.kot-drolshagen.de
SUMMARY:Koch- und BackAG - Chilli Sin Carne
DESCRIPTION:
URL:https://www.kot-drolshagen.de/event/koch-und-backag-chilli-sin-carne/
END:VEVENT
BEGIN:VEVENT
DTSTART;TZID=Europe/Berlin:20250514T150000
DTEND;TZID=Europe/Berlin:20250514T160000
DTSTAMP:20260419T153907
CREATED:20250422T145945Z
LAST-MODIFIED:20250422T145945Z
UID:6160-1747234800-1747238400@www.kot-drolshagen.de
SUMMARY:Offener Lerntreff - 8 bis 12 Jahre
DESCRIPTION:Du suchst einen Ort\, an dem du konzentriert lernen\, dich mit anderen austauschen oder einfach in angenehmer Atmosphäre an deinen Projekten arbeiten kannst? Dann bist du beim offenen Lerntreff genau richtig! \nEgal ob Schule\, Studium\, Weiterbildung oder Selbststudium – komm vorbei\, bring deine Materialien mit und werde Teil einer motivierten Lerngruppe. Jeder ist willkommen – ohne Anmeldung\, ohne Verpflichtung.
URL:https://www.kot-drolshagen.de/event/offener-lerntreff-8-bis-12-jahre-2/
END:VEVENT
BEGIN:VEVENT
DTSTART;TZID=Europe/Berlin:20250514T160000
DTEND;TZID=Europe/Berlin:20250514T190000
DTSTAMP:20260419T153907
CREATED:20250422T143657Z
LAST-MODIFIED:20250422T143657Z
UID:6130-1747238400-1747249200@www.kot-drolshagen.de
SUMMARY:Kindertreff - TShirt bemalen
DESCRIPTION:Werde zum Modedesigner! Jedes Kind gestaltet ein eigenes T-Shirt mit Textilfarben. Bitte ein weißes T-Shirt mitbringen (wenn möglich).
URL:https://www.kot-drolshagen.de/event/kindertreff-tshirt-bemalen/
END:VEVENT
BEGIN:VEVENT
DTSTART;TZID=Europe/Berlin:20250515T133000
DTEND;TZID=Europe/Berlin:20250515T150000
DTSTAMP:20260419T153907
CREATED:20250422T145032Z
LAST-MODIFIED:20250422T145032Z
UID:6152-1747315800-1747321200@www.kot-drolshagen.de
SUMMARY:Bewerbungsunterstützung
DESCRIPTION:Du willst dich für eine Ausbildung\, Schule oder ein Praktikum bewerben\, weißt aber nicht\, wo du anfangen sollst? Kein Problem! Wir unterstützen dich beim Schreiben von Bewerbungen\, Lebenslauf und Motivationsschreiben – kostenlos\, unkompliziert und auf Augenhöhe. \nUnd wenn du noch gar nicht genau weißt\, was du nach der Schule machen möchtest\, sind wir auch für dich da. Komm einfach vorbei – wir nehmen uns Zeit für dich und deine Fragen.
URL:https://www.kot-drolshagen.de/event/bewerbungsunterstuetzung-9/
END:VEVENT
BEGIN:VEVENT
DTSTART;TZID=Europe/Berlin:20250519T133000
DTEND;TZID=Europe/Berlin:20250519T150000
DTSTAMP:20260419T153907
CREATED:20250422T144741Z
LAST-MODIFIED:20250422T144741Z
UID:6144-1747661400-1747666800@www.kot-drolshagen.de
SUMMARY:Bewerbungsunterstützung
DESCRIPTION:Du willst dich für eine Ausbildung\, Schule oder ein Praktikum bewerben\, weißt aber nicht\, wo du anfangen sollst? Kein Problem! Wir unterstützen dich beim Schreiben von Bewerbungen\, Lebenslauf und Motivationsschreiben – kostenlos\, unkompliziert und auf Augenhöhe. \nUnd wenn du noch gar nicht genau weißt\, was du nach der Schule machen möchtest\, sind wir auch für dich da. Komm einfach vorbei – wir nehmen uns Zeit für dich und deine Fragen.
URL:https://www.kot-drolshagen.de/event/bewerbungsunterstuetzung-5/
END:VEVENT
BEGIN:VEVENT
DTSTART;TZID=Europe/Berlin:20250520T133000
DTEND;TZID=Europe/Berlin:20250520T150000
DTSTAMP:20260419T153907
CREATED:20250422T150034Z
LAST-MODIFIED:20250422T150034Z
UID:6162-1747747800-1747753200@www.kot-drolshagen.de
SUMMARY:Offener Lerntreff - ab 12 Jahren
DESCRIPTION:Du suchst einen Ort\, an dem du konzentriert lernen\, dich mit anderen austauschen oder einfach in angenehmer Atmosphäre an deinen Projekten arbeiten kannst? Dann bist du beim offenen Lerntreff genau richtig! \nEgal ob Schule\, Studium\, Weiterbildung oder Selbststudium – komm vorbei\, bring deine Materialien mit und werde Teil einer motivierten Lerngruppe. Jeder ist willkommen – ohne Anmeldung\, ohne Verpflichtung.
URL:https://www.kot-drolshagen.de/event/offener-lerntreff-ab-12-jahren-3/
END:VEVENT
BEGIN:VEVENT
DTSTART;TZID=Europe/Berlin:20250520T160000
DTEND;TZID=Europe/Berlin:20250520T180000
DTSTAMP:20260419T153907
CREATED:20250422T152920Z
LAST-MODIFIED:20250422T152920Z
UID:6174-1747756800-1747764000@www.kot-drolshagen.de
SUMMARY:Koch- und BackAG - Pizzabrötchen
DESCRIPTION:
URL:https://www.kot-drolshagen.de/event/koch-und-backag-pizzabroetchen/
END:VEVENT
BEGIN:VEVENT
DTSTART;TZID=Europe/Berlin:20250521T150000
DTEND;TZID=Europe/Berlin:20250521T160000
DTSTAMP:20260419T153907
CREATED:20250422T150107Z
LAST-MODIFIED:20250422T150107Z
UID:6164-1747839600-1747843200@www.kot-drolshagen.de
SUMMARY:Offener Lerntreff - 8 bis 12 Jahre
DESCRIPTION:Du suchst einen Ort\, an dem du konzentriert lernen\, dich mit anderen austauschen oder einfach in angenehmer Atmosphäre an deinen Projekten arbeiten kannst? Dann bist du beim offenen Lerntreff genau richtig! \nEgal ob Schule\, Studium\, Weiterbildung oder Selbststudium – komm vorbei\, bring deine Materialien mit und werde Teil einer motivierten Lerngruppe. Jeder ist willkommen – ohne Anmeldung\, ohne Verpflichtung.
URL:https://www.kot-drolshagen.de/event/offener-lerntreff-8-bis-12-jahre-3/
END:VEVENT
BEGIN:VEVENT
DTSTART;TZID=Europe/Berlin:20250521T160000
DTEND;TZID=Europe/Berlin:20250521T190000
DTSTAMP:20260419T153907
CREATED:20250422T143741Z
LAST-MODIFIED:20250422T143741Z
UID:6132-1747843200-1747854000@www.kot-drolshagen.de
SUMMARY:Kindertreff - Kinotag
DESCRIPTION:Wir machen es uns gemütlich mit Decken und Kissen und schauen gemeinsam einen schönen Kinderfilm. Popcorn inklusive!
URL:https://www.kot-drolshagen.de/event/kindertreff-kinotag/
END:VEVENT
BEGIN:VEVENT
DTSTART;TZID=Europe/Berlin:20250522T133000
DTEND;TZID=Europe/Berlin:20250522T150000
DTSTAMP:20260419T153907
CREATED:20250422T144814Z
LAST-MODIFIED:20250422T144814Z
UID:6146-1747920600-1747926000@www.kot-drolshagen.de
SUMMARY:Bewerbungsunterstützung
DESCRIPTION:Du willst dich für eine Ausbildung\, Schule oder ein Praktikum bewerben\, weißt aber nicht\, wo du anfangen sollst? Kein Problem! Wir unterstützen dich beim Schreiben von Bewerbungen\, Lebenslauf und Motivationsschreiben – kostenlos\, unkompliziert und auf Augenhöhe. \nUnd wenn du noch gar nicht genau weißt\, was du nach der Schule machen möchtest\, sind wir auch für dich da. Komm einfach vorbei – wir nehmen uns Zeit für dich und deine Fragen.
URL:https://www.kot-drolshagen.de/event/bewerbungsunterstuetzung-6/
END:VEVENT
BEGIN:VEVENT
DTSTART;TZID=Europe/Berlin:20250526T133000
DTEND;TZID=Europe/Berlin:20250526T150000
DTSTAMP:20260419T153907
CREATED:20250422T144856Z
LAST-MODIFIED:20250422T144856Z
UID:6148-1748266200-1748271600@www.kot-drolshagen.de
SUMMARY:Bewerbungsunterstützung
DESCRIPTION:Du willst dich für eine Ausbildung\, Schule oder ein Praktikum bewerben\, weißt aber nicht\, wo du anfangen sollst? Kein Problem! Wir unterstützen dich beim Schreiben von Bewerbungen\, Lebenslauf und Motivationsschreiben – kostenlos\, unkompliziert und auf Augenhöhe. \nUnd wenn du noch gar nicht genau weißt\, was du nach der Schule machen möchtest\, sind wir auch für dich da. Komm einfach vorbei – wir nehmen uns Zeit für dich und deine Fragen.
URL:https://www.kot-drolshagen.de/event/bewerbungsunterstuetzung-7/
END:VEVENT
BEGIN:VEVENT
DTSTART;TZID=Europe/Berlin:20250527T133000
DTEND;TZID=Europe/Berlin:20250527T150000
DTSTAMP:20260419T153907
CREATED:20250422T150156Z
LAST-MODIFIED:20250422T150156Z
UID:6166-1748352600-1748358000@www.kot-drolshagen.de
SUMMARY:Offener Lerntreff - ab 12 Jahre
DESCRIPTION:Du suchst einen Ort\, an dem du konzentriert lernen\, dich mit anderen austauschen oder einfach in angenehmer Atmosphäre an deinen Projekten arbeiten kannst? Dann bist du beim offenen Lerntreff genau richtig! \nEgal ob Schule\, Studium\, Weiterbildung oder Selbststudium – komm vorbei\, bring deine Materialien mit und werde Teil einer motivierten Lerngruppe. Jeder ist willkommen – ohne Anmeldung\, ohne Verpflichtung.
URL:https://www.kot-drolshagen.de/event/offener-lerntreff-ab-12-jahre/
END:VEVENT
BEGIN:VEVENT
DTSTART;TZID=Europe/Berlin:20250527T160000
DTEND;TZID=Europe/Berlin:20250527T180000
DTSTAMP:20260419T153907
CREATED:20250422T153007Z
LAST-MODIFIED:20250422T153007Z
UID:6176-1748361600-1748368800@www.kot-drolshagen.de
SUMMARY:Koch- und BackAG - Muffins
DESCRIPTION:
URL:https://www.kot-drolshagen.de/event/koch-und-backag-muffins/
END:VEVENT
BEGIN:VEVENT
DTSTART;TZID=Europe/Berlin:20250528T150000
DTEND;TZID=Europe/Berlin:20250528T160000
DTSTAMP:20260419T153907
CREATED:20250422T150246Z
LAST-MODIFIED:20250422T150246Z
UID:6168-1748444400-1748448000@www.kot-drolshagen.de
SUMMARY:Offener Lerntreff - 8 bis 12 Jahre
DESCRIPTION:Du suchst einen Ort\, an dem du konzentriert lernen\, dich mit anderen austauschen oder einfach in angenehmer Atmosphäre an deinen Projekten arbeiten kannst? Dann bist du beim offenen Lerntreff genau richtig! \nEgal ob Schule\, Studium\, Weiterbildung oder Selbststudium – komm vorbei\, bring deine Materialien mit und werde Teil einer motivierten Lerngruppe. Jeder ist willkommen – ohne Anmeldung\, ohne Verpflichtung.
URL:https://www.kot-drolshagen.de/event/offener-lerntreff-8-bis-12-jahre-4/
END:VEVENT
BEGIN:VEVENT
DTSTART;TZID=Europe/Berlin:20250528T160000
DTEND;TZID=Europe/Berlin:20250528T190000
DTSTAMP:20260419T153907
CREATED:20250422T143846Z
LAST-MODIFIED:20250422T143846Z
UID:6134-1748448000-1748458800@www.kot-drolshagen.de
SUMMARY:Kindertreff - Offenes Spielmobil
DESCRIPTION:Bei gutem Wetter öffnen wir das Spielmobil. Bei Regen treffen wir uns drinnen zum offenen Spieletreff mit Brettspielen\, MarioKart-Duellen & Co.
URL:https://www.kot-drolshagen.de/event/kindertreff-offenes-spielmobil/
END:VEVENT
BEGIN:VEVENT
DTSTART;TZID=Europe/Berlin:20250529T133000
DTEND;TZID=Europe/Berlin:20250529T150000
DTSTAMP:20260419T153907
CREATED:20250422T144949Z
LAST-MODIFIED:20250422T144949Z
UID:6150-1748525400-1748530800@www.kot-drolshagen.de
SUMMARY:Bewerbungsunterstützung
DESCRIPTION:Du willst dich für eine Ausbildung\, Schule oder ein Praktikum bewerben\, weißt aber nicht\, wo du anfangen sollst? Kein Problem! Wir unterstützen dich beim Schreiben von Bewerbungen\, Lebenslauf und Motivationsschreiben – kostenlos\, unkompliziert und auf Augenhöhe. \nUnd wenn du noch gar nicht genau weißt\, was du nach der Schule machen möchtest\, sind wir auch für dich da. Komm einfach vorbei – wir nehmen uns Zeit für dich und deine Fragen.
URL:https://www.kot-drolshagen.de/event/bewerbungsunterstuetzung-8/
END:VEVENT
END:VCALENDAR