BEGIN:VCALENDAR
VERSION:2.0
PRODID:-//K.o.T. Drolshagen - ECPv6.10.1.1//NONSGML v1.0//EN
CALSCALE:GREGORIAN
METHOD:PUBLISH
X-ORIGINAL-URL:https://www.kot-drolshagen.de
X-WR-CALDESC:Veranstaltungen für K.o.T. Drolshagen
REFRESH-INTERVAL;VALUE=DURATION:PT1H
X-Robots-Tag:noindex
X-PUBLISHED-TTL:PT1H
BEGIN:VTIMEZONE
TZID:Europe/Berlin
BEGIN:DAYLIGHT
TZOFFSETFROM:+0100
TZOFFSETTO:+0200
TZNAME:CEST
DTSTART:20260329T010000
END:DAYLIGHT
BEGIN:STANDARD
TZOFFSETFROM:+0200
TZOFFSETTO:+0100
TZNAME:CET
DTSTART:20261025T010000
END:STANDARD
END:VTIMEZONE
BEGIN:VEVENT
DTSTART;TZID=Europe/Berlin:20260603T150000
DTEND;TZID=Europe/Berlin:20260603T180000
DTSTAMP:20260421T150843
CREATED:20260414T163235Z
LAST-MODIFIED:20260414T163235Z
UID:6666-1780498800-1780509600@www.kot-drolshagen.de
SUMMARY:Kindertreff - Kinderkino
DESCRIPTION:Vorhang auf! Heute schauen wir uns einen Film an (gegebenenfalls auch im Kino).
URL:https://www.kot-drolshagen.de/event/kindertreff-kinderkino-3/
LOCATION:Kleine Offene Tür Drolshagen\, Annostraße 14\, Drolshagen\, 57462\, Deutschland
ORGANIZER;CN="K.o.T. Drolshagen":MAILTO:info@kot-drolshagen.de
END:VEVENT
BEGIN:VEVENT
DTSTART;TZID=Europe/Berlin:20260610T150000
DTEND;TZID=Europe/Berlin:20260610T180000
DTSTAMP:20260421T150843
CREATED:20260414T163443Z
LAST-MODIFIED:20260414T163443Z
UID:6668-1781103600-1781114400@www.kot-drolshagen.de
SUMMARY:Kindertreff - Kochaktion
DESCRIPTION:Wir kochen uns heute zusammen etwas leckeres und essen dann gemeinsam. Es kann mit gekocht werden\, muss aber nicht.
URL:https://www.kot-drolshagen.de/event/kindertreff-kochaktion/
LOCATION:Kleine Offene Tür Drolshagen\, Annostraße 14\, Drolshagen\, 57462\, Deutschland
ORGANIZER;CN="K.o.T. Drolshagen":MAILTO:info@kot-drolshagen.de
END:VEVENT
BEGIN:VEVENT
DTSTART;TZID=Europe/Berlin:20260617T150000
DTEND;TZID=Europe/Berlin:20260617T180000
DTSTAMP:20260421T150843
CREATED:20260414T163627Z
LAST-MODIFIED:20260414T163627Z
UID:6670-1781708400-1781719200@www.kot-drolshagen.de
SUMMARY:Kindertreff - McPlay
DESCRIPTION:Wir fahren ins McPlay. Packt am besten genügend zu trinken und Stoppersocken ein. \nDer Eigenanteil liegt bei 10€ pro Kind.
URL:https://www.kot-drolshagen.de/event/kindertreff-mcplay/
ORGANIZER;CN="K.o.T. Drolshagen":MAILTO:info@kot-drolshagen.de
END:VEVENT
BEGIN:VEVENT
DTSTART;TZID=Europe/Berlin:20260624T150000
DTEND;TZID=Europe/Berlin:20260624T170000
DTSTAMP:20260421T150843
CREATED:20260414T164115Z
LAST-MODIFIED:20260414T165056Z
UID:6672-1782313200-1782320400@www.kot-drolshagen.de
SUMMARY:Kindertreff - offener Spieletreff
DESCRIPTION:Heute findet ein offener Spieletreff an. Ein kleines – kostenloses und freiwilliges – Überraschungsangebot wird es geben.
URL:https://www.kot-drolshagen.de/event/kindertreff-offener-spieletreff-8/
LOCATION:Kleine Offene Tür Drolshagen\, Annostraße 14\, Drolshagen\, 57462\, Deutschland
ORGANIZER;CN="K.o.T. Drolshagen":MAILTO:info@kot-drolshagen.de
END:VEVENT
END:VCALENDAR